BEGIN:VCALENDAR
VERSION:2.0
PRODID:-//【大阪・枚方市のヨガ】イルチブレインヨガ枚方スタジオで本来の健康と美しさを！ - ECPv6.15.20//NONSGML v1.0//EN
CALSCALE:GREGORIAN
METHOD:PUBLISH
X-ORIGINAL-URL:https://ilchibrainyoga-hirakata.com
X-WR-CALDESC:【大阪・枚方市のヨガ】イルチブレインヨガ枚方スタジオで本来の健康と美しさを！ のイベント
REFRESH-INTERVAL;VALUE=DURATION:PT1H
X-Robots-Tag:noindex
X-PUBLISHED-TTL:PT1H
BEGIN:VTIMEZONE
TZID:Asia/Tokyo
BEGIN:STANDARD
TZOFFSETFROM:+0900
TZOFFSETTO:+0900
TZNAME:JST
DTSTART:20240101T000000
END:STANDARD
END:VTIMEZONE
BEGIN:VEVENT
DTSTART;TZID=Asia/Tokyo:20251013T103000
DTEND;TZID=Asia/Tokyo:20251013T163000
DTSTAMP:20260422T052016
CREATED:20251007T060130Z
LAST-MODIFIED:20251007T060130Z
UID:7918-1760351400-1760373000@ilchibrainyoga-hirakata.com
SUMMARY:✨️Brain Phone FESTA✨
DESCRIPTION:日常のスマホ📱をちょっと手放して、脳と心をリフレッシュする特別な1日🌿 \n🌸 開催テーマ\n 「ブレインフォン」をONにして、 自分らしく輝く時間を一緒に過ごしましょう💃 \n🗓 日時\n 10月13日(月・祝) 10:30〜16:30 \n📍 場所\n クールジャパンパーク大阪\n （長堀鶴見緑地線「森ノ宮」徒歩5分）\n大阪城公園中、WWホールとTTホールの間の中庭 \n💎 体験できること\n ＼体と心が喜ぶブース多数✨／\nヘッドケア\n肩もみ、足もみ\nへそヒーリング etc.\n→ 各10分1000円 \n🔹リーディング\n・オーラ撮影\n・天符経タロット\n・陰陽五行\n・チャクラバランス\n→ 各20分2000円 ✨\n🎁事前予約で100円OFF🎁 \n体と心に嬉しいグッズ販売もご用意しています。 \n🌸 スペシャルプログラム\n 14:00〜15:00 ブレインフォンフェスタ YouTubeライブ🎥\n 全国の会場とつながり、ダンスや参加型ワークで盛り上がります！ \n🌟 参加費：無料！ \n 自分を癒し、内側から輝くきっかけに🌈\n ぜひお気軽に遊びにきてください💖 \n問合せ電話:072-841-5801 \n\nスタジオLINE：https://lin.ee/2uxAQaZ \n\n\n  \n\n\n\n\n\n \n体験ご希望日時\n		(必須)　※ご注意：月曜日は定休日です\n		\n \n—以下から選択してください—10111213141516171819時 —以下から選択してください—001020304050分 ～ のクラス\n \nお名前\n		 (必須)\n		\n \n\n \nメールアドレス\n		 (必須)\n		\n \n\n \nお電話番号（携帯可）\n		 (必須)\n		\n \n\n \nこちらのスタジオを何でお知りになりましたか？\n		 (必須)\n		\n \nチラシ看板書籍雑誌紹介Yahoo検索Google検索口コミその他Webサイト\n \nご関心があること、習得したいこと（複数可）\n \n肩こり腰痛の改善自然治癒力アップ集中力アップダイエット体質改善ストレス解消丹田強化呼吸法瞑想法その他\n \n備考欄\n \n\n \n個人情報の取扱いについて、同意の上送信します。\n \n\n \n\n\n Δ \n\n\n\n株式会社DAHN WORLD JAPAN（ダンワールドジャパン）
URL:https://ilchibrainyoga-hirakata.com/event/hirakata-10/
LOCATION:クールジャパンパーク大阪\, 大阪市中央区大阪城３番６号
ATTACH;FMTTYPE=image/png:https://ilchibrainyoga-hirakata.com/wp-content/uploads/2025/10/84173198634b9f43ffa6a8962fc4c3b5.png
END:VEVENT
END:VCALENDAR